BEGIN:VCALENDAR
VERSION:2.0
PRODID:-//Town of Calamus - ECPv6.15.20//NONSGML v1.0//EN
CALSCALE:GREGORIAN
METHOD:PUBLISH
X-WR-CALNAME:Town of Calamus
X-ORIGINAL-URL:https://townofcalamus.com
X-WR-CALDESC:Events for Town of Calamus
REFRESH-INTERVAL;VALUE=DURATION:PT1H
X-Robots-Tag:noindex
X-PUBLISHED-TTL:PT1H
BEGIN:VTIMEZONE
TZID:America/Chicago
BEGIN:DAYLIGHT
TZOFFSETFROM:-0600
TZOFFSETTO:-0500
TZNAME:CDT
DTSTART:20170312T080000
END:DAYLIGHT
BEGIN:STANDARD
TZOFFSETFROM:-0500
TZOFFSETTO:-0600
TZNAME:CST
DTSTART:20171105T070000
END:STANDARD
BEGIN:DAYLIGHT
TZOFFSETFROM:-0600
TZOFFSETTO:-0500
TZNAME:CDT
DTSTART:20180311T080000
END:DAYLIGHT
BEGIN:STANDARD
TZOFFSETFROM:-0500
TZOFFSETTO:-0600
TZNAME:CST
DTSTART:20181104T070000
END:STANDARD
BEGIN:DAYLIGHT
TZOFFSETFROM:-0600
TZOFFSETTO:-0500
TZNAME:CDT
DTSTART:20190310T080000
END:DAYLIGHT
BEGIN:STANDARD
TZOFFSETFROM:-0500
TZOFFSETTO:-0600
TZNAME:CST
DTSTART:20191103T070000
END:STANDARD
END:VTIMEZONE
BEGIN:VEVENT
DTSTART;TZID=America/Chicago:20180711T183000
DTEND;TZID=America/Chicago:20180711T190000
DTSTAMP:20260424T134009
CREATED:20190224T223948Z
LAST-MODIFIED:20190224T223948Z
UID:10000043-1531333800-1531335600@townofcalamus.com
SUMMARY:Town Board Meeting
DESCRIPTION:
URL:https://townofcalamus.com/event/town-board-meeting-36/
LOCATION:Calamus Town Hall
CATEGORIES:Town Board
END:VEVENT
BEGIN:VEVENT
DTSTART;TZID=America/Chicago:20180717T083000
DTEND;TZID=America/Chicago:20180717T153000
DTSTAMP:20260424T134009
CREATED:20190224T224048Z
LAST-MODIFIED:20190224T224048Z
UID:10000044-1531816200-1531841400@townofcalamus.com
SUMMARY:First Day to Vote Absentee
DESCRIPTION:To vote by Absentee Ballot call Marge for appointment (920) 623-3692
URL:https://townofcalamus.com/event/first-day-to-vote-absentee/
LOCATION:Clerks Home\, W 10897 Van Buren Rd
CATEGORIES:Election
END:VEVENT
BEGIN:VEVENT
DTSTART;TZID=America/Chicago:20180718T173000
DTEND;TZID=America/Chicago:20180718T190000
DTSTAMP:20260424T134009
CREATED:20190224T223912Z
LAST-MODIFIED:20190224T223912Z
UID:10000407-1531935000-1531940400@townofcalamus.com
SUMMARY:Water Testing Program
DESCRIPTION:View results of samples taken. Towns of Elba\, Calamus and Westford
URL:https://townofcalamus.com/event/water-testing-program-2/
LOCATION:Calamus Town Hall
CATEGORIES:Events
END:VEVENT
END:VCALENDAR