BEGIN:VCALENDAR
VERSION:2.0
PRODID:-//Town of Calamus - ECPv6.15.20//NONSGML v1.0//EN
CALSCALE:GREGORIAN
METHOD:PUBLISH
X-WR-CALNAME:Town of Calamus
X-ORIGINAL-URL:https://townofcalamus.com
X-WR-CALDESC:Events for Town of Calamus
REFRESH-INTERVAL;VALUE=DURATION:PT1H
X-Robots-Tag:noindex
X-PUBLISHED-TTL:PT1H
BEGIN:VTIMEZONE
TZID:America/Chicago
BEGIN:DAYLIGHT
TZOFFSETFROM:-0600
TZOFFSETTO:-0500
TZNAME:CDT
DTSTART:20170312T080000
END:DAYLIGHT
BEGIN:STANDARD
TZOFFSETFROM:-0500
TZOFFSETTO:-0600
TZNAME:CST
DTSTART:20171105T070000
END:STANDARD
BEGIN:DAYLIGHT
TZOFFSETFROM:-0600
TZOFFSETTO:-0500
TZNAME:CDT
DTSTART:20180311T080000
END:DAYLIGHT
BEGIN:STANDARD
TZOFFSETFROM:-0500
TZOFFSETTO:-0600
TZNAME:CST
DTSTART:20181104T070000
END:STANDARD
BEGIN:DAYLIGHT
TZOFFSETFROM:-0600
TZOFFSETTO:-0500
TZNAME:CDT
DTSTART:20190310T080000
END:DAYLIGHT
BEGIN:STANDARD
TZOFFSETFROM:-0500
TZOFFSETTO:-0600
TZNAME:CST
DTSTART:20191103T070000
END:STANDARD
END:VTIMEZONE
BEGIN:VEVENT
DTSTART;TZID=America/Chicago:20180611T140000
DTEND;TZID=America/Chicago:20180611T143000
DTSTAMP:20260424T150027
CREATED:20190224T223803Z
LAST-MODIFIED:20190224T223803Z
UID:10000405-1528725600-1528727400@townofcalamus.com
SUMMARY:Public Test of Voting Equipment
DESCRIPTION:
URL:https://townofcalamus.com/event/public-test-of-voting-equipment-7/
LOCATION:Calamus Town Hall
CATEGORIES:Election
END:VEVENT
BEGIN:VEVENT
DTSTART;TZID=America/Chicago:20180612T070000
DTEND;TZID=America/Chicago:20180612T200000
DTSTAMP:20260424T150027
CREATED:20190224T223540Z
LAST-MODIFIED:20190224T223540Z
UID:10000402-1528786800-1528833600@townofcalamus.com
SUMMARY:Special Election
DESCRIPTION:Special Election called for 42nd State Assembly District only
URL:https://townofcalamus.com/event/special-election/
LOCATION:Calamus Town Hall
CATEGORIES:Election
END:VEVENT
BEGIN:VEVENT
DTSTART;TZID=America/Chicago:20180612T070000
DTEND;TZID=America/Chicago:20180612T200000
DTSTAMP:20260424T150027
CREATED:20190224T223839Z
LAST-MODIFIED:20190224T223839Z
UID:10000406-1528786800-1528833600@townofcalamus.com
SUMMARY:Water Testing Program
DESCRIPTION:If registered\, please pick up test bottles and return them today.
URL:https://townofcalamus.com/event/water-testing-program/
LOCATION:Calamus Town Hall
CATEGORIES:Events
END:VEVENT
BEGIN:VEVENT
DTSTART;TZID=America/Chicago:20180613T183000
DTEND;TZID=America/Chicago:20180613T193000
DTSTAMP:20260424T150027
CREATED:20190224T223725Z
LAST-MODIFIED:20190224T223725Z
UID:10000404-1528914600-1528918200@townofcalamus.com
SUMMARY:Town Board Meeting
DESCRIPTION:
URL:https://townofcalamus.com/event/town-board-meeting-35/
LOCATION:Calamus Town Hall
CATEGORIES:Town Board
END:VEVENT
END:VCALENDAR