BEGIN:VCALENDAR
VERSION:2.0
PRODID:-//Town of Calamus - ECPv6.15.20//NONSGML v1.0//EN
CALSCALE:GREGORIAN
METHOD:PUBLISH
X-ORIGINAL-URL:https://townofcalamus.com
X-WR-CALDESC:Events for Town of Calamus
REFRESH-INTERVAL;VALUE=DURATION:PT1H
X-Robots-Tag:noindex
X-PUBLISHED-TTL:PT1H
BEGIN:VTIMEZONE
TZID:America/Chicago
BEGIN:DAYLIGHT
TZOFFSETFROM:-0600
TZOFFSETTO:-0500
TZNAME:CDT
DTSTART:20170312T080000
END:DAYLIGHT
BEGIN:STANDARD
TZOFFSETFROM:-0500
TZOFFSETTO:-0600
TZNAME:CST
DTSTART:20171105T070000
END:STANDARD
BEGIN:DAYLIGHT
TZOFFSETFROM:-0600
TZOFFSETTO:-0500
TZNAME:CDT
DTSTART:20180311T080000
END:DAYLIGHT
BEGIN:STANDARD
TZOFFSETFROM:-0500
TZOFFSETTO:-0600
TZNAME:CST
DTSTART:20181104T070000
END:STANDARD
BEGIN:DAYLIGHT
TZOFFSETFROM:-0600
TZOFFSETTO:-0500
TZNAME:CDT
DTSTART:20190310T080000
END:DAYLIGHT
BEGIN:STANDARD
TZOFFSETFROM:-0500
TZOFFSETTO:-0600
TZNAME:CST
DTSTART:20191103T070000
END:STANDARD
END:VTIMEZONE
BEGIN:VEVENT
DTSTART;TZID=America/Chicago:20180402T140000
DTEND;TZID=America/Chicago:20180402T150000
DTSTAMP:20260424T172322
CREATED:20190224T223014Z
LAST-MODIFIED:20190224T223014Z
UID:10000038-1522677600-1522681200@townofcalamus.com
SUMMARY:Public Test of the Voting Equipment
DESCRIPTION:Test the DS200 and Express Vote equipment for the April 3\, 2018 Spring Election
URL:https://townofcalamus.com/event/public-test-of-the-voting-equipment/
LOCATION:Calamus Town Hall
CATEGORIES:Election
END:VEVENT
BEGIN:VEVENT
DTSTART;TZID=America/Chicago:20180403T070000
DTEND;TZID=America/Chicago:20180403T200000
DTSTAMP:20260424T172322
CREATED:20190224T222618Z
LAST-MODIFIED:20190224T222618Z
UID:10000033-1522738800-1522785600@townofcalamus.com
SUMMARY:Election
DESCRIPTION:General Election for State Superintendent of Public Instruction\, Justice of the Supreme Court\,Court of Appeals\, and School Board s\, and Referendum for Fall River School District
URL:https://townofcalamus.com/event/election-2/
LOCATION:Calamus Town Hall
CATEGORIES:Election
END:VEVENT
BEGIN:VEVENT
DTSTART;TZID=America/Chicago:20180411T183000
DTEND;TZID=America/Chicago:20180411T193000
DTSTAMP:20260424T172322
CREATED:20190224T223049Z
LAST-MODIFIED:20190224T223049Z
UID:10000039-1523471400-1523475000@townofcalamus.com
SUMMARY:Town Board Meeting
DESCRIPTION:
URL:https://townofcalamus.com/event/town-board-meeting-33/
LOCATION:Calamus Town Hall
CATEGORIES:Town Board
END:VEVENT
BEGIN:VEVENT
DTSTART;TZID=America/Chicago:20180417T183000
DTEND;TZID=America/Chicago:20180417T190000
DTSTAMP:20260424T172322
CREATED:20190224T223123Z
LAST-MODIFIED:20190224T223123Z
UID:10000040-1523989800-1523991600@townofcalamus.com
SUMMARY:Annual Meeting of the Electors
DESCRIPTION:Meeting of the electors\, Review Annual Financial Statement\, Set Board salaries for the 2019-2021 term
URL:https://townofcalamus.com/event/annual-meeting-of-the-electors-4/
LOCATION:Calamus Town Hall
CATEGORIES:Town Board
END:VEVENT
BEGIN:VEVENT
DTSTART;TZID=America/Chicago:20180418T140000
DTEND;TZID=America/Chicago:20180418T160000
DTSTAMP:20260424T172322
CREATED:20190224T223158Z
LAST-MODIFIED:20190224T223158Z
UID:10000041-1524060000-1524067200@townofcalamus.com
SUMMARY:Open Book
DESCRIPTION:Review/discuss assessment with Assessor 
URL:https://townofcalamus.com/event/open-book/
LOCATION:Calamus Town Hall
CATEGORIES:Meetings
END:VEVENT
BEGIN:VEVENT
DTSTART;TZID=America/Chicago:20180426T190000
DTEND;TZID=America/Chicago:20180426T203000
DTSTAMP:20260424T172322
CREATED:20190224T223252Z
LAST-MODIFIED:20190224T223252Z
UID:10000042-1524769200-1524774600@townofcalamus.com
SUMMARY:Columbus Fire Group Meeting
DESCRIPTION:
URL:https://townofcalamus.com/event/columbus-fire-group-meeting/
LOCATION:Columbus Fire Station
CATEGORIES:Meetings
END:VEVENT
END:VCALENDAR