BEGIN:VCALENDAR
VERSION:2.0
PRODID:-//Town of Calamus - ECPv6.15.20//NONSGML v1.0//EN
CALSCALE:GREGORIAN
METHOD:PUBLISH
X-WR-CALNAME:Town of Calamus
X-ORIGINAL-URL:https://townofcalamus.com
X-WR-CALDESC:Events for Town of Calamus
REFRESH-INTERVAL;VALUE=DURATION:PT1H
X-Robots-Tag:noindex
X-PUBLISHED-TTL:PT1H
BEGIN:VTIMEZONE
TZID:America/Chicago
BEGIN:DAYLIGHT
TZOFFSETFROM:-0600
TZOFFSETTO:-0500
TZNAME:CDT
DTSTART:20170312T080000
END:DAYLIGHT
BEGIN:STANDARD
TZOFFSETFROM:-0500
TZOFFSETTO:-0600
TZNAME:CST
DTSTART:20171105T070000
END:STANDARD
BEGIN:DAYLIGHT
TZOFFSETFROM:-0600
TZOFFSETTO:-0500
TZNAME:CDT
DTSTART:20180311T080000
END:DAYLIGHT
BEGIN:STANDARD
TZOFFSETFROM:-0500
TZOFFSETTO:-0600
TZNAME:CST
DTSTART:20181104T070000
END:STANDARD
BEGIN:DAYLIGHT
TZOFFSETFROM:-0600
TZOFFSETTO:-0500
TZNAME:CDT
DTSTART:20190310T080000
END:DAYLIGHT
BEGIN:STANDARD
TZOFFSETFROM:-0500
TZOFFSETTO:-0600
TZNAME:CST
DTSTART:20191103T070000
END:STANDARD
END:VTIMEZONE
BEGIN:VEVENT
DTSTART;TZID=America/Chicago:20180320T183000
DTEND;TZID=America/Chicago:20180320T184500
DTSTAMP:20260424T183928
CREATED:20190224T222854Z
LAST-MODIFIED:20190224T222854Z
UID:10000036-1521570600-1521571500@townofcalamus.com
SUMMARY:Meeting of the Electors
DESCRIPTION:Meeting of the electors to consider borrowing for a new snow plow truck for delivery this Novemeber
URL:https://townofcalamus.com/event/meeting-of-the-electors/
LOCATION:Calamus Town Hall
CATEGORIES:Town Board
END:VEVENT
BEGIN:VEVENT
DTSTART;TZID=America/Chicago:20180320T184500
DTEND;TZID=America/Chicago:20180320T193000
DTSTAMP:20260424T183928
CREATED:20190224T222941Z
LAST-MODIFIED:20190224T222941Z
UID:10000037-1521571500-1521574200@townofcalamus.com
SUMMARY:Town Board Meeting
DESCRIPTION:
URL:https://townofcalamus.com/event/town-board-meeting-32/
LOCATION:Calamus Town Hall
CATEGORIES:Town Board
END:VEVENT
END:VCALENDAR