BEGIN:VCALENDAR
VERSION:2.0
PRODID:-//Town of Calamus - ECPv6.15.17.1//NONSGML v1.0//EN
CALSCALE:GREGORIAN
METHOD:PUBLISH
X-WR-CALNAME:Town of Calamus
X-ORIGINAL-URL:https://townofcalamus.com
X-WR-CALDESC:Events for Town of Calamus
REFRESH-INTERVAL;VALUE=DURATION:PT1H
X-Robots-Tag:noindex
X-PUBLISHED-TTL:PT1H
BEGIN:VTIMEZONE
TZID:America/Chicago
BEGIN:DAYLIGHT
TZOFFSETFROM:-0600
TZOFFSETTO:-0500
TZNAME:CDT
DTSTART:20210314T080000
END:DAYLIGHT
BEGIN:STANDARD
TZOFFSETFROM:-0500
TZOFFSETTO:-0600
TZNAME:CST
DTSTART:20211107T070000
END:STANDARD
BEGIN:DAYLIGHT
TZOFFSETFROM:-0600
TZOFFSETTO:-0500
TZNAME:CDT
DTSTART:20220313T080000
END:DAYLIGHT
BEGIN:STANDARD
TZOFFSETFROM:-0500
TZOFFSETTO:-0600
TZNAME:CST
DTSTART:20221106T070000
END:STANDARD
BEGIN:DAYLIGHT
TZOFFSETFROM:-0600
TZOFFSETTO:-0500
TZNAME:CDT
DTSTART:20230312T080000
END:DAYLIGHT
BEGIN:STANDARD
TZOFFSETFROM:-0500
TZOFFSETTO:-0600
TZNAME:CST
DTSTART:20231105T070000
END:STANDARD
END:VTIMEZONE
BEGIN:VEVENT
DTSTART;TZID=America/Chicago:20220608T183000
DTEND;TZID=America/Chicago:20220608T190000
DTSTAMP:20260423T040050
CREATED:20220517T153850Z
LAST-MODIFIED:20220517T153915Z
UID:10000521-1654713000-1654714800@townofcalamus.com
SUMMARY:Plan Commission Hearing
DESCRIPTION:Public Hearing with the Plan Commission on the petition to divide off the existing farmstead from Phyllis Herzberg at W11819 Moriah Road
URL:https://townofcalamus.com/event/plan-commission-hearing-6/
CATEGORIES:Plan Commission
END:VEVENT
END:VCALENDAR