BEGIN:VCALENDAR
VERSION:2.0
PRODID:-//Town of Calamus - ECPv6.15.17.1//NONSGML v1.0//EN
CALSCALE:GREGORIAN
METHOD:PUBLISH
X-WR-CALNAME:Town of Calamus
X-ORIGINAL-URL:https://townofcalamus.com
X-WR-CALDESC:Events for Town of Calamus
REFRESH-INTERVAL;VALUE=DURATION:PT1H
X-Robots-Tag:noindex
X-PUBLISHED-TTL:PT1H
BEGIN:VTIMEZONE
TZID:America/Chicago
BEGIN:DAYLIGHT
TZOFFSETFROM:-0600
TZOFFSETTO:-0500
TZNAME:CDT
DTSTART:20220313T080000
END:DAYLIGHT
BEGIN:STANDARD
TZOFFSETFROM:-0500
TZOFFSETTO:-0600
TZNAME:CST
DTSTART:20221106T070000
END:STANDARD
BEGIN:DAYLIGHT
TZOFFSETFROM:-0600
TZOFFSETTO:-0500
TZNAME:CDT
DTSTART:20230312T080000
END:DAYLIGHT
BEGIN:STANDARD
TZOFFSETFROM:-0500
TZOFFSETTO:-0600
TZNAME:CST
DTSTART:20231105T070000
END:STANDARD
BEGIN:DAYLIGHT
TZOFFSETFROM:-0600
TZOFFSETTO:-0500
TZNAME:CDT
DTSTART:20240310T080000
END:DAYLIGHT
BEGIN:STANDARD
TZOFFSETFROM:-0500
TZOFFSETTO:-0600
TZNAME:CST
DTSTART:20241103T070000
END:STANDARD
END:VTIMEZONE
BEGIN:VEVENT
DTSTART;TZID=America/Chicago:20230114T130000
DTEND;TZID=America/Chicago:20230114T133000
DTSTAMP:20260422T171413
CREATED:20221219T213848Z
LAST-MODIFIED:20221219T213848Z
UID:10000539-1673701200-1673703000@townofcalamus.com
SUMMARY:Town Caucus
DESCRIPTION:Town Caucus will be held to make nomintions for all Town Board positions to be elected on April 4\, 2023
URL:https://townofcalamus.com/event/town-caucus-5/
CATEGORIES:Election
END:VEVENT
BEGIN:VEVENT
DTSTART;TZID=America/Chicago:20230125T160000
DTEND;TZID=America/Chicago:20230125T170000
DTSTAMP:20260422T171413
CREATED:20230125T203742Z
LAST-MODIFIED:20230125T203742Z
UID:10000541-1674662400-1674666000@townofcalamus.com
SUMMARY:Absentee Voting for February 21st Primary Election
DESCRIPTION:Absentee voting for the February 21st Primary Election may begin
URL:https://townofcalamus.com/event/absentee-voting-for-february-21st-primary-election/
CATEGORIES:Election
END:VEVENT
END:VCALENDAR